Workbook

Sheet Draft SNL A and B
A8: Qual Code | B8: Qualification name | C8: Occupation Name | D8: Industry/Training Package | E8: Draft List A or B
A9: 10198NAT | B9: Graduate Certificate in Networking and Cyber Security | C9: Database and Systems Administrators, and ICT Security Specialists | D9: Information Communications and Integrated Telecommunications | E9: A | G9: =IF(Search!$B$2="","",IFERROR(MATCH("*"&Search!$B$2&"*",A9,0),0)) -> 0 | H9: =IF(Search!$B$2="","",IFERROR(MATCH("*"&Search!$B$2&"*",B9,0),0)) -> 0 | I9: =IF(Search!$B$2="","",IFERROR(MATCH("*"&Search!$B$2&"*",C9,0),0)) -> 0 | J9: =IF(Search!$B$2="","",IFERROR(MATCH("*"&Search!$B$2&"*",D9,0),0)) -> 0 | K9: =IF(SUM(G9:J9)>0,1,0) -> 0
A10: AHC30716 | B10: Certificate III in Horticulture | C10: Gardeners | D10: Agriculture, Horticulture and Conservation and Land Management | E10: A | G10: =IF(Search!$B$2="","",IFERROR(MATCH("*"&Search!$B$2&"*",A10,0),0)) -> 0 | H10: =IF(Search!$B$2="","",IFERROR(MATCH("*"&Search!$B$2&"*",B10,0),0)) -> 0 | I10: =IF(Search!$B$2="","",IFERROR(MATCH("*"&Search!$B$2&"*",C10,0),0)) -> 0 | J10: =IF(Search!$B$2="","",IFERROR(MATCH("*"&Search!$B$2&"*",D10,0),0)) -> 0 | K10: =IF(SUM(G10:J10)>0,1,0) -> 0
A11: AHC30816 | B11: Certificate III in Arboriculture | C11: Gardeners | D11: Agriculture, Horticulture and Conservation and Land Management | E11: A | G11: =IF(Search!$B$2="","",IFERROR(MATCH("*"&Search!$B$2&"*",A11,0),0)) -> 0 | H11: =IF(Search!$B$2="","",IFERROR(MATCH("*"&Search!$B$2&"*",B11,0),0)) -> 0 | I11: =IF(Search!$B$2="","",IFERROR(MATCH("*"&Search!$B$2&"*",C11,0),0)) -> 0 | J11: =IF(Search!$B$2="","",IFERROR(MATCH("*"&Search!$B$2&"*",D11,0),0)) -> 0 | K11: =IF(SUM(G11:J11)>0,1,0) -> 0
A12: AHC30916 | B12: Certificate III in Landscape Construction | C12: Gardeners | D12: Agriculture, Horticulture and Conservation and Land Management | E12: A | G12: =IF(Search!$B$2="","",IFERROR(MATCH("*"&Search!$B$2&"*",A12,0),0)) -> 0 | H12: =IF(Search!$B$2="","",IFERROR(MATCH("*"&Search!$B$2&"*",B12,0),0)) -> 0 | I12: =IF(Search!$B$2="","",IFERROR(MATCH("*"&Search!$B$2&"*",C12,0),0)) -> 0 | J12: =IF(Search!$B$2="","",IFERROR(MATCH("*"&Search!$B$2&"*",D12,0),0)) -> 0 | K12: =IF(SUM(G12:J12)>0,1,0) -> 0
A13: AHC31016 | B13: Certificate III in Parks and Gardens | C13: Gardeners | D13: Agriculture, Horticulture and Conservation and Land Management | E13: A | G13: =IF(Search!$B$2="","",IFERROR(MATCH("*"&Search!$B$2&"*",A13,0),0)) -> 0 | H13: =IF(Search!$B$2="","",IFERROR(MATCH("*"&Search!$B$2&"*",B13,0),0)) -> 0 | I13: =IF(Search!$B$2="","",IFERROR(MATCH("*"&Search!$B$2&"*",C13,0),0)) -> 0 | J13: =IF(Search!$B$2="","",IFERROR(MATCH("*"&Search!$B$2&"*",D13,0),0)) -> 0 | K13: =IF(SUM(G13:J13)>0,1,0) -> 0
A14: AHC31416 | B14: Certificate III in Conservation and Land Management | C14: Gardeners | D14: Agriculture, Horticulture and Conservation and Land Management | E14: A | G14: =IF(Search!$B$2="","",IFERROR(MATCH("*"&Search!$B$2&"*",A14,0),0)) -> 0 | H14: =IF(Search!$B$2="","",IFERROR(MATCH("*"&Search!$B$2&"*",B14,0),0)) -> 0 | I14: =IF(Search!$B$2="","",IFERROR(MATCH("*"&Search!$B$2&"*",C14,0),0)) -> 0 | J14: =IF(Search!$B$2="","",IFERROR(MATCH("*"&Search!$B$2&"*",D14,0),0)) -> 0 | K14: =IF(SUM(G14:J14)>0,1,0) -> 0
A15: AUR30316 | B15: Certificate III in Automotive Electrical Technology | C15: Automotive Electricians | D15: Automotive Services | E15: A | G15: =IF(Search!$B$2="","",IFERROR(MATCH("*"&Search!$B$2&"*",A15,0),0)) -> 0 | H15: =IF(Search!$B$2="","",IFERROR(MATCH("*"&Search!$B$2&"*",B15,0),0)) -> 0 | I15: =IF(Search!$B$2="","",IFERROR(MATCH("*"&Search!$B$2&"*",C15,0),0)) -> 0 | J15: =IF(Search!$B$2="","",IFERROR(MATCH("*"&Search!$B$2&"*",D15,0),0)) -> 0 | K15: =IF(SUM(G15:J15)>0,1,0) -> 0
A16: AUR30616 | B16: Certificate III in Light Vehicle Mechanical Technology | C16: Motor Mechanics | D16: Automotive Services | E16: A | G16: =IF(Search!$B$2="","",IFERROR(MATCH("*"&Search!$B$2&"*",A16,0),0)) -> 0 | H16: =IF(Search!$B$2="","",IFERROR(MATCH("*"&Search!$B$2&"*",B16,0),0)) -> 0 | I16: =IF(Search!$B$2="","",IFERROR(MATCH("*"&Search!$B$2&"*",C16,0),0)) -> 0 | J16: =IF(Search!$B$2="","",IFERROR(MATCH("*"&Search!$B$2&"*",D16,0),0)) -> 0 | K16: =IF(SUM(G16:J16)>0,1,0) -> 0
A17: AUR30816 | B17: Certificate III in Motorcycle Mechanical Technology | C17: Motor Mechanics | D17: Automotive Services | E17: A | G17: =IF(Search!$B$2="","",IFERROR(MATCH("*"&Search!$B$2&"*",A17,0),0)) -> 0 | H17: =IF(Search!$B$2="","",IFERROR(MATCH("*"&Search!$B$2&"*",B17,0),0)) -> 0 | I17: =IF(Search!$B$2="","",IFERROR(MATCH("*"&Search!$B$2&"*",C17,0),0)) -> 0 | J17: =IF(Search!$B$2="","",IFERROR(MATCH("*"&Search!$B$2&"*",D17,0),0)) -> 0 | K17: =IF(SUM(G17:J17)>0,1,0) -> 0
A18: AUR31116 | B18: Certificate III in Heavy Commercial Vehicle Mechanical Technology | C18: Motor Mechanics | D18: Automotive Services | E18: A | G18: =IF(Search!$B$2="","",IFERROR(MATCH("*"&Search!$B$2&"*",A18,0),0)) -> 0 | H18: =IF(Search!$B$2="","",IFERROR(MATCH("*"&Search!$B$2&"*",B18,0),0)) -> 0 | I18: =IF(Search!$B$2="","",IFERROR(MATCH("*"&Search!$B$2&"*",C18,0),0)) -> 0 | J18: =IF(Search!$B$2="","",IFERROR(MATCH("*"&Search!$B$2&"*",D18,0),0)) -> 0 | K18: =IF(SUM(G18:J18)>0,1,0) -> 0
A19: BSB40215 | B19: Certificate IV in Business | C19: Contract, Program and Project Administrators | D19: Business and Financial Services | E19: A | G19: =IF(Search!$B$2="","",IFERROR(MATCH("*"&Search!$B$2&"*",A19,0),0)) -> 0 | H19: =IF(Search!$B$2="","",IFERROR(MATCH("*"&Search!$B$2&"*",B19,0),0)) -> 0 | I19: =IF(Search!$B$2="","",IFERROR(MATCH("*"&Search!$B$2&"*",C19,0),0)) -> 0 | J19: =IF(Search!$B$2="","",IFERROR(MATCH("*"&Search!$B$2&"*",D19,0),0)) -> 0 | K19: =IF(SUM(G19:J19)>0,1,0) -> 0
A20: CHC30113 | B20: Certificate III in Early Childhood Education and Care | C20: Child Carers | D20: Community services | E20: A | G20: =IF(Search!$B$2="","",IFERROR(MATCH("*"&Search!$B$2&"*",A20,0),0)) -> 0 | H20: =IF(Search!$B$2="","",IFERROR(MATCH("*"&Search!$B$2&"*",B20,0),0)) -> 0 | I20: =IF(Search!$B$2="","",IFERROR(MATCH("*"&Search!$B$2&"*",C20,0),0)) -> 0 | J20: =IF(Search!$B$2="","",IFERROR(MATCH("*"&Search!$B$2&"*",D20,0),0)) -> 0 | K20: =IF(SUM(G20:J20)>0,1,0) -> 0
... A209: UET30812 | B209: Certificate III in ESI - Power Systems - Distribution Cable Jointing | C209: Electrical Distribution Trades Workers | D209: Transmission, Distribution and Rail Sector | E209: B | G209: =IF(Search!$B$2="","",IFERROR(MATCH("*"&Search!$B$2&"*",A209,0),0)) -> 0 | H209: =IF(Search!$B$2="","",IFERROR(MATCH("*"&Search!$B$2&"*",B209,0),0)) -> 0 | I209: =IF(Search!$B$2="","",IFERROR(MATCH("*"&Search!$B$2&"*",C209,0),0)) -> 0 | J209: =IF(Search!$B$2="","",IFERROR(MATCH("*"&Search!$B$2&"*",D209,0),0)) -> 0 | K209: =IF(SUM(G209:J209)>0,1,0) -> 0

Sheet Search
A2: Enter Search Term: | B2: [search here]
A4: Search Results | B4: =34-COUNTBLANK(A6:A39)&" Results Found" -> 0 Results Found
A5: Qualification Code | B5: Qualification name | C5: Occupation | D5: Industry | E5: Draft List A or B
A6: {=IFERROR(INDEX('Draft SNL A and B'!A$9:A$209,SMALL(IF('Draft SNL A and B'!$K$9:$K$209=1,ROW('Draft SNL A and B'!$K$9:$K$209)-ROW('Draft SNL A and B'!$K$9)+1),ROW(A1))),"")} | B6: =IFERROR(INDEX('Draft SNL A and B'!B:B,MATCH($A6,'Draft SNL A and B'!$A:$A,0)),"") | C6: =IFERROR(INDEX('Draft SNL A and B'!C:C,MATCH($A6,'Draft SNL A and B'!$A:$A,0)),"") | D6: =IFERROR(INDEX('Draft SNL A and B'!D:D,MATCH($A6,'Draft SNL A and B'!$A:$A,0)),"") | E6: =IFERROR(INDEX('Draft SNL A and B'!E:E,MATCH($A6,'Draft SNL A and B'!$A:$A,0)),"")
A7: {=IFERROR(INDEX('Draft SNL A and B'!A$9:A$209,SMALL(IF('Draft SNL A and B'!$K$9:$K$209=1,ROW('Draft SNL A and B'!$K$9:$K$209)-ROW('Draft SNL A and B'!$K$9)+1),ROW(A2))),"")} | B7: =IFERROR(INDEX('Draft SNL A and B'!B:B,MATCH($A7,'Draft SNL A and B'!$A:$A,0)),"") | C7: =IFERROR(INDEX('Draft SNL A and B'!C:C,MATCH($A7,'Draft SNL A and B'!$A:$A,0)),"") | D7: =IFERROR(INDEX('Draft SNL A and B'!D:D,MATCH($A7,'Draft SNL A and B'!$A:$A,0)),"") | E7: =IFERROR(INDEX('Draft SNL A and B'!E:E,MATCH($A7,'Draft SNL A and B'!$A:$A,0)),"")
A8: {=IFERROR(INDEX('Draft SNL A and B'!A$9:A$209,SMALL(IF('Draft SNL A and B'!$K$9:$K$209=1,ROW('Draft SNL A and B'!$K$9:$K$209)-ROW('Draft SNL A and B'!$K$9)+1),ROW(A3))),"")} | B8: =IFERROR(INDEX('Draft SNL A and B'!B:B,MATCH($A8,'Draft SNL A and B'!$A:$A,0)),"") | C8: =IFERROR(INDEX('Draft SNL A and B'!C:C,MATCH($A8,'Draft SNL A and B'!$A:$A,0)),"") | D8: =IFERROR(INDEX('Draft SNL A and B'!D:D,MATCH($A8,'Draft SNL A and B'!$A:$A,0)),"") | E8: =IFERROR(INDEX('Draft SNL A and B'!E:E,MATCH($A8,'Draft SNL A and B'!$A:$A,0)),"")
A9: {=IFERROR(INDEX('Draft SNL A and B'!A$9:A$209,SMALL(IF('Draft SNL A and B'!$K$9:$K$209=1,ROW('Draft SNL A and B'!$K$9:$K$209)-ROW('Draft SNL A and B'!$K$9)+1),ROW(A4))),"")} | B9: =IFERROR(INDEX('Draft SNL A and B'!B:B,MATCH($A9,'Draft SNL A and B'!$A:$A,0)),"") | C9: =IFERROR(INDEX('Draft SNL A and B'!C:C,MATCH($A9,'Draft SNL A and B'!$A:$A,0)),"") | D9: =IFERROR(INDEX('Draft SNL A and B'!D:D,MATCH($A9,'Draft SNL A and B'!$A:$A,0)),"") | E9: =IFERROR(INDEX('Draft SNL A and B'!E:E,MATCH($A9,'Draft SNL A and B'!$A:$A,0)),"")
A10: {=IFERROR(INDEX('Draft SNL A and B'!A$9:A$209,SMALL(IF('Draft SNL A and B'!$K$9:$K$209=1,ROW('Draft SNL A and B'!$K$9:$K$209)-ROW('Draft SNL A and B'!$K$9)+1),ROW(A5))),"")} | B10: =IFERROR(INDEX('Draft SNL A and B'!B:B,MATCH($A10,'Draft SNL A and B'!$A:$A,0)),"") | C10: =IFERROR(INDEX('Draft SNL A and B'!C:C,MATCH($A10,'Draft SNL A and B'!$A:$A,0)),"") | D10: =IFERROR(INDEX('Draft SNL A and B'!D:D,MATCH($A10,'Draft SNL A and B'!$A:$A,0)),"") | E10: =IFERROR(INDEX('Draft SNL A and B'!E:E,MATCH($A10,'Draft SNL A and B'!$A:$A,0)),"")
A11: {=IFERROR(INDEX('Draft SNL A and B'!A$9:A$209,SMALL(IF('Draft SNL A and B'!$K$9:$K$209=1,ROW('Draft SNL A and B'!$K$9:$K$209)-ROW('Draft SNL A and B'!$K$9)+1),ROW(A6))),"")} | B11: =IFERROR(INDEX('Draft SNL A and B'!B:B,MATCH($A11,'Draft SNL A and B'!$A:$A,0)),"") | C11: =IFERROR(INDEX('Draft SNL A and B'!C:C,MATCH($A11,'Draft SNL A and B'!$A:$A,0)),"") | D11: =IFERROR(INDEX('Draft SNL A and B'!D:D,MATCH($A11,'Draft SNL A and B'!$A:$A,0)),"") | E11: =IFERROR(INDEX('Draft SNL A and B'!E:E,MATCH($A11,'Draft SNL A and B'!$A:$A,0)),"")
A12: {=IFERROR(INDEX('Draft SNL A and B'!A$9:A$209,SMALL(IF('Draft SNL A and B'!$K$9:$K$209=1,ROW('Draft SNL A and B'!$K$9:$K$209)-ROW('Draft SNL A and B'!$K$9)+1),ROW(A7))),"")} | B12: =IFERROR(INDEX('Draft SNL A and B'!B:B,MATCH($A12,'Draft SNL A and B'!$A:$A,0)),"") | C12: =IFERROR(INDEX('Draft SNL A and B'!C:C,MATCH($A12,'Draft SNL A and B'!$A:$A,0)),"") | D12: =IFERROR(INDEX('Draft SNL A and B'!D:D,MATCH($A12,'Draft SNL A and B'!$A:$A,0)),"") | E12: =IFERROR(INDEX('Draft SNL A and B'!E:E,MATCH($A12,'Draft SNL A and B'!$A:$A,0)),"")
A13: {=IFERROR(INDEX('Draft SNL A and B'!A$9:A$209,SMALL(IF('Draft SNL A and B'!$K$9:$K$209=1,ROW('Draft SNL A and B'!$K$9:$K$209)-ROW('Draft SNL A and B'!$K$9)+1),ROW(A8))),"")} | B13: =IFERROR(INDEX('Draft SNL A and B'!B:B,MATCH($A13,'Draft SNL A and B'!$A:$A,0)),"") | C13: =IFERROR(INDEX('Draft SNL A and B'!C:C,MATCH($A13,'Draft SNL A and B'!$A:$A,0)),"") | D13: =IFERROR(INDEX('Draft SNL A and B'!D:D,MATCH($A13,'Draft SNL A and B'!$A:$A,0)),"") | E13: =IFERROR(INDEX('Draft SNL A and B'!E:E,MATCH($A13,'Draft SNL A and B'!$A:$A,0)),"")
A14: {=IFERROR(INDEX('Draft SNL A and B'!A$9:A$209,SMALL(IF('Draft SNL A and B'!$K$9:$K$209=1,ROW('Draft SNL A and B'!$K$9:$K$209)-ROW('Draft SNL A and B'!$K$9)+1),ROW(A9))),"")} | B14: =IFERROR(INDEX('Draft SNL A and B'!B:B,MATCH($A14,'Draft SNL A and B'!$A:$A,0)),"") | C14: =IFERROR(INDEX('Draft SNL A and B'!C:C,MATCH($A14,'Draft SNL A and B'!$A:$A,0)),"") | D14: =IFERROR(INDEX('Draft SNL A and B'!D:D,MATCH($A14,'Draft SNL A and B'!$A:$A,0)),"") | E14: =IFERROR(INDEX('Draft SNL A and B'!E:E,MATCH($A14,'Draft SNL A and B'!$A:$A,0)),"")
A15: {=IFERROR(INDEX('Draft SNL A and B'!A$9:A$209,SMALL(IF('Draft SNL A and B'!$K$9:$K$209=1,ROW('Draft SNL A and B'!$K$9:$K$209)-ROW('Draft SNL A and B'!$K$9)+1),ROW(A10))),"")} | B15: =IFERROR(INDEX('Draft SNL A and B'!B:B,MATCH($A15,'Draft SNL A and B'!$A:$A,0)),"") | C15: =IFERROR(INDEX('Draft SNL A and B'!C:C,MATCH($A15,'Draft SNL A and B'!$A:$A,0)),"") | D15: =IFERROR(INDEX('Draft SNL A and B'!D:D,MATCH($A15,'Draft SNL A and B'!$A:$A,0)),"") | E15: =IFERROR(INDEX('Draft SNL A and B'!E:E,MATCH($A15,'Draft SNL A and B'!$A:$A,0)),"")
A16: {=IFERROR(INDEX('Draft SNL A and B'!A$9:A$209,SMALL(IF('Draft SNL A and B'!$K$9:$K$209=1,ROW('Draft SNL A and B'!$K$9:$K$209)-ROW('Draft SNL A and B'!$K$9)+1),ROW(A11))),"")} | B16: =IFERROR(INDEX('Draft SNL A and B'!B:B,MATCH($A16,'Draft SNL A and B'!$A:$A,0)),"") | C16: =IFERROR(INDEX('Draft SNL A and B'!C:C,MATCH($A16,'Draft SNL A and B'!$A:$A,0)),"") | D16: =IFERROR(INDEX('Draft SNL A and B'!D:D,MATCH($A16,'Draft SNL A and B'!$A:$A,0)),"") | E16: =IFERROR(INDEX('Draft SNL A and B'!E:E,MATCH($A16,'Draft SNL A and B'!$A:$A,0)),"")
A17: {=IFERROR(INDEX('Draft SNL A and B'!A$9:A$209,SMALL(IF('Draft SNL A and B'!$K$9:$K$209=1,ROW('Draft SNL A and B'!$K$9:$K$209)-ROW('Draft SNL A and B'!$K$9)+1),ROW(A12))),"")} | B17: =IFERROR(INDEX('Draft SNL A and B'!B:B,MATCH($A17,'Draft SNL A and B'!$A:$A,0)),"") | C17: =IFERROR(INDEX('Draft SNL A and B'!C:C,MATCH($A17,'Draft SNL A and B'!$A:$A,0)),"") | D17: =IFERROR(INDEX('Draft SNL A and B'!D:D,MATCH($A17,'Draft SNL A and B'!$A:$A,0)),"") | E17: =IFERROR(INDEX('Draft SNL A and B'!E:E,MATCH($A17,'Draft SNL A and B'!$A:$A,0)),"")
... A26: {=IFERROR(INDEX('Draft SNL A and B'!A$9:A$209,SMALL(IF('Draft SNL A and B'!$K$9:$K$209=1,ROW('Draft SNL A and B'!$K$9:$K$209)-ROW('Draft SNL A and B'!$K$9)+1),ROW(A21))),"")} | B26: =IFERROR(INDEX('Draft SNL A and B'!B:B,MATCH($A26,'Draft SNL A and B'!$A:$A,0)),"") | C26: =IFERROR(INDEX('Draft SNL A and B'!C:C,MATCH($A26,'Draft SNL A and B'!$A:$A,0)),"") | D26: =IFERROR(INDEX('Draft SNL A and B'!D:D,MATCH($A26,'Draft SNL A and B'!$A:$A,0)),"") | E26: =IFERROR(INDEX('Draft SNL A and B'!E:E,MATCH($A26,'Draft SNL A and B'!$A:$A,0)),"")
A27: {=IFERROR(INDEX('Draft SNL A and B'!A$9:A$209,SMALL(IF('Draft SNL A and B'!$K$9:$K$209=1,ROW('Draft SNL A and B'!$K$9:$K$209)-ROW('Draft SNL A and B'!$K$9)+1),ROW(A24))),"")} | B27: =IFERROR(INDEX('Draft SNL A and B'!B:B,MATCH($A27,'Draft SNL A and B'!$A:$A,0)),"") | C27: =IFERROR(INDEX('Draft SNL A and B'!C:C,MATCH($A27,'Draft SNL A and B'!$A:$A,0)),"") | D27: =IFERROR(INDEX('Draft SNL A and B'!D:D,MATCH($A27,'Draft SNL A and B'!$A:$A,0)),"") | E27: =IFERROR(INDEX('Draft SNL A and B'!E:E,MATCH($A27,'Draft SNL A and B'!$A:$A,0)),"")
A28: {=IFERROR(INDEX('Draft SNL A and B'!A$9:A$209,SMALL(IF('Draft SNL A and B'!$K$9:$K$209=1,ROW('Draft SNL A and B'!$K$9:$K$209)-ROW('Draft SNL A and B'!$K$9)+1),ROW(A25))),"")} | B28: =IFERROR(INDEX('Draft SNL A and B'!B:B,MATCH($A28,'Draft SNL A and B'!$A:$A,0)),"") | C28: =IFERROR(INDEX('Draft SNL A and B'!C:C,MATCH($A28,'Draft SNL A and B'!$A:$A,0)),"") | D28: =IFERROR(INDEX('Draft SNL A and B'!D:D,MATCH($A28,'Draft SNL A and B'!$A:$A,0)),"") | E28: =IFERROR(INDEX('Draft SNL A and B'!E:E,MATCH($A28,'Draft SNL A and B'!$A:$A,0)),"")
A29: {=IFERROR(INDEX('Draft SNL A and B'!A$9:A$209,SMALL(IF('Draft SNL A and B'!$K$9:$K$209=1,ROW('Draft SNL A and B'!$K$9:$K$209)-ROW('Draft SNL A and B'!$K$9)+1),ROW(A26))),"")} | B29: =IFERROR(INDEX('Draft SNL A and B'!B:B,MATCH($A29,'Draft SNL A and B'!$A:$A,0)),"") | C29: =IFERROR(INDEX('Draft SNL A and B'!C:C,MATCH($A29,'Draft SNL A and B'!$A:$A,0)),"") | D29: =IFERROR(INDEX('Draft SNL A and B'!D:D,MATCH($A29,'Draft SNL A and B'!$A:$A,0)),"") | E29: =IFERROR(INDEX('Draft SNL A and B'!E:E,MATCH($A29,'Draft SNL A and B'!$A:$A,0)),"")
A30: {=IFERROR(INDEX('Draft SNL A and B'!A$9:A$209,SMALL(IF('Draft SNL A and B'!$K$9:$K$209=1,ROW('Draft SNL A and B'!$K$9:$K$209)-ROW('Draft SNL A and B'!$K$9)+1),ROW(A27))),"")} | B30: =IFERROR(INDEX('Draft SNL A and B'!B:B,MATCH($A30,'Draft SNL A and B'!$A:$A,0)),"") | C30: =IFERROR(INDEX('Draft SNL A and B'!C:C,MATCH($A30,'Draft SNL A and B'!$A:$A,0)),"") | D30: =IFERROR(INDEX('Draft SNL A and B'!D:D,MATCH($A30,'Draft SNL A and B'!$A:$A,0)),"") | E30: =IFERROR(INDEX('Draft SNL A and B'!E:E,MATCH($A30,'Draft SNL A and B'!$A:$A,0)),"")
A31: {=IFERROR(INDEX('Draft SNL A and B'!A$9:A$209,SMALL(IF('Draft SNL A and B'!$K$9:$K$209=1,ROW('Draft SNL A and B'!$K$9:$K$209)-ROW('Draft SNL A and B'!$K$9)+1),ROW(A28))),"")} | B31: =IFERROR(INDEX('Draft SNL A and B'!B:B,MATCH($A31,'Draft SNL A and B'!$A:$A,0)),"") | C31: =IFERROR(INDEX('Draft SNL A and B'!C:C,MATCH($A31,'Draft SNL A and B'!$A:$A,0)),"") | D31: =IFERROR(INDEX('Draft SNL A and B'!D:D,MATCH($A31,'Draft SNL A and B'!$A:$A,0)),"") | E31: =IFERROR(INDEX('Draft SNL A and B'!E:E,MATCH($A31,'Draft SNL A and B'!$A:$A,0)),"")
A32: {=IFERROR(INDEX('Draft SNL A and B'!A$9:A$209,SMALL(IF('Draft SNL A and B'!$K$9:$K$209=1,ROW('Draft SNL A and B'!$K$9:$K$209)-ROW('Draft SNL A and B'!$K$9)+1),ROW(A29))),"")} | B32: =IFERROR(INDEX('Draft SNL A and B'!B:B,MATCH($A32,'Draft SNL A and B'!$A:$A,0)),"") | C32: =IFERROR(INDEX('Draft SNL A and B'!C:C,MATCH($A32,'Draft SNL A and B'!$A:$A,0)),"") | D32: =IFERROR(INDEX('Draft SNL A and B'!D:D,MATCH($A32,'Draft SNL A and B'!$A:$A,0)),"") | E32: =IFERROR(INDEX('Draft SNL A and B'!E:E,MATCH($A32,'Draft SNL A and B'!$A:$A,0)),"")
A33: {=IFERROR(INDEX('Draft SNL A and B'!A$9:A$209,SMALL(IF('Draft SNL A and B'!$K$9:$K$209=1,ROW('Draft SNL A and B'!$K$9:$K$209)-ROW('Draft SNL A and B'!$K$9)+1),ROW(A30))),"")} | B33: =IFERROR(INDEX('Draft SNL A and B'!B:B,MATCH($A33,'Draft SNL A and B'!$A:$A,0)),"") | C33: =IFERROR(INDEX('Draft SNL A and B'!C:C,MATCH($A33,'Draft SNL A and B'!$A:$A,0)),"") | D33: =IFERROR(INDEX('Draft SNL A and B'!D:D,MATCH($A33,'Draft SNL A and B'!$A:$A,0)),"") | E33: =IFERROR(INDEX('Draft SNL A and B'!E:E,MATCH($A33,'Draft SNL A and B'!$A:$A,0)),"")
A34: {=IFERROR(INDEX('Draft SNL A and B'!A$9:A$209,SMALL(IF('Draft SNL A and B'!$K$9:$K$209=1,ROW('Draft SNL A and B'!$K$9:$K$209)-ROW('Draft SNL A and B'!$K$9)+1),ROW(A31))),"")} | B34: =IFERROR(INDEX('Draft SNL A and B'!B:B,MATCH($A34,'Draft SNL A and B'!$A:$A,0)),"") | C34: =IFERROR(INDEX('Draft SNL A and B'!C:C,MATCH($A34,'Draft SNL A and B'!$A:$A,0)),"") | D34: =IFERROR(INDEX('Draft SNL A and B'!D:D,MATCH($A34,'Draft SNL A and B'!$A:$A,0)),"") | E34: =IFERROR(INDEX('Draft SNL A and B'!E:E,MATCH($A34,'Draft SNL A and B'!$A:$A,0)),"")
A35: {=IFERROR(INDEX('Draft SNL A and B'!A$9:A$209,SMALL(IF('Draft SNL A and B'!$K$9:$K$209=1,ROW('Draft SNL A and B'!$K$9:$K$209)-ROW('Draft SNL A and B'!$K$9)+1),ROW(A32))),"")} | B35: =IFERROR(INDEX('Draft SNL A and B'!B:B,MATCH($A35,'Draft SNL A and B'!$A:$A,0)),"") | C35: =IFERROR(INDEX('Draft SNL A and B'!C:C,MATCH($A35,'Draft SNL A and B'!$A:$A,0)),"") | D35: =IFERROR(INDEX('Draft SNL A and B'!D:D,MATCH($A35,'Draft SNL A and B'!$A:$A,0)),"") | E35: =IFERROR(INDEX('Draft SNL A and B'!E:E,MATCH($A35,'Draft SNL A and B'!$A:$A,0)),"")
A36: {=IFERROR(INDEX('Draft SNL A and B'!A$9:A$209,SMALL(IF('Draft SNL A and B'!$K$9:$K$209=1,ROW('Draft SNL A and B'!$K$9:$K$209)-ROW('Draft SNL A and B'!$K$9)+1),ROW(A33))),"")} | B36: =IFERROR(INDEX('Draft SNL A and B'!B:B,MATCH($A36,'Draft SNL A and B'!$A:$A,0)),"") | C36: =IFERROR(INDEX('Draft SNL A and B'!C:C,MATCH($A36,'Draft SNL A and B'!$A:$A,0)),"") | D36: =IFERROR(INDEX('Draft SNL A and B'!D:D,MATCH($A36,'Draft SNL A and B'!$A:$A,0)),"") | E36: =IFERROR(INDEX('Draft SNL A and B'!E:E,MATCH($A36,'Draft SNL A and B'!$A:$A,0)),"")
A37: {=IFERROR(INDEX('Draft SNL A and B'!A$9:A$209,SMALL(IF('Draft SNL A and B'!$K$9:$K$209=1,ROW('Draft SNL A and B'!$K$9:$K$209)-ROW('Draft SNL A and B'!$K$9)+1),ROW(A34))),"")} | B37: =IFERROR(INDEX('Draft SNL A and B'!B:B,MATCH($A37,'Draft SNL A and B'!$A:$A,0)),"") | C37: =IFERROR(INDEX('Draft SNL A and B'!C:C,MATCH($A37,'Draft SNL A and B'!$A:$A,0)),"") | D37: =IFERROR(INDEX('Draft SNL A and B'!D:D,MATCH($A37,'Draft SNL A and B'!$A:$A,0)),"") | E37: =IFERROR(INDEX('Draft SNL A and B'!E:E,MATCH($A37,'Draft SNL A and B'!$A:$A,0)),"")
A38: {=IFERROR(INDEX('Draft SNL A and B'!A$9:A$209,SMALL(IF('Draft SNL A and B'!$K$9:$K$209=1,ROW('Draft SNL A and B'!$K$9:$K$209)-ROW('Draft SNL A and B'!$K$9)+1),ROW(A35))),"")} | B38: =IFERROR(INDEX('Draft SNL A and B'!B:B,MATCH($A38,'Draft SNL A and B'!$A:$A,0)),"") | C38: =IFERROR(INDEX('Draft SNL A and B'!C:C,MATCH($A38,'Draft SNL A and B'!$A:$A,0)),"") | D38: =IFERROR(INDEX('Draft SNL A and B'!D:D,MATCH($A38,'Draft SNL A and B'!$A:$A,0)),"") | E38: =IFERROR(INDEX('Draft SNL A and B'!E:E,MATCH($A38,'Draft SNL A and B'!$A:$A,0)),"")
A39: {=IFERROR(INDEX('Draft SNL A and B'!A$9:A$209,SMALL(IF('Draft SNL A and B'!$K$9:$K$209=1,ROW('Draft SNL A and B'!$K$9:$K$209)-ROW('Draft SNL A and B'!$K$9)+1),ROW(A36))),"")} | B39: =IFERROR(INDEX('Draft SNL A and B'!B:B,MATCH($A39,'Draft SNL A and B'!$A:$A,0)),"") | C39: =IFERROR(INDEX('Draft SNL A and B'!C:C,MATCH($A39,'Draft SNL A and B'!$A:$A,0)),"") | D39: =IFERROR(INDEX('Draft SNL A and B'!D:D,MATCH($A39,'Draft SNL A and B'!$A:$A,0)),"") | E39: =IFERROR(INDEX('Draft SNL A and B'!E:E,MATCH($A39,'Draft SNL A and B'!$A:$A,0)),"")
